BEGIN:VCALENDAR
VERSION:2.0
PRODID:-//eventon.com NONSGML v1.0//EN
CALSCALE:GREGORIAN
METHOD:PUBLISH
BEGIN:VEVENT
UID:69e9ec8b3fd78
DTSTAMP:20260423T095523Z
DTSTART:20251016T213000Z
DTEND:20251016T163000Z
LOCATION:
SUMMARY:Hypnosis for Pain Management: Effective Techniques for Healthcare Professionals
DESCRIPTION:Unlock the potential of clinical hypnosis to enhance pain manag
 ement in your practice. This course is designed for healthcare professional
 s seeking to integrate evidence-based hypnotic techniques into their patien
 t care. Learn how to use hypnosis as an adjunctive tool to reduce suffering
 \,  distress\,  and discomfort associated with acute\,  procedural\,  and[.
 .]\nhttps://bscah.co.uk/events/hypnosis-for-pain-management-effective-techn
 iques-for-healthcare-professionals/
URL:https://bscah.co.uk/events/hypnosis-for-pain-management-effective-techniques-for-healthcare-professionals/
END:VEVENT
END:VCALENDAR