BEGIN:VCALENDAR
VERSION:2.0
PRODID:-//eventon.com NONSGML v1.0//EN
CALSCALE:GREGORIAN
METHOD:PUBLISH
BEGIN:VEVENT
UID:69e9eec14a7c2
DTSTAMP:20260423T100449Z
DTSTART:20250222T213000Z
DTEND:20250223T160000Z
LOCATION:
SUMMARY:Online Medical Hypnosis for Healthcare Professionals Spring 2025 Modules 1-3
DESCRIPTION:ABOUT THE TRAINING: This course is aimed at teaching the basics
  of clinical hypnosis that health professionals can integrate into their ex
 isting clinical work. This course consists of self directed study plus face
  to zoom sessions online. To get the most out of the limited teaching time 
 it is useful[..]\nhttps://bscah.co.uk/events/online-medical-hypnosis-for-he
 althcare-professionals-spring-2025-modules-1-3/
URL:https://bscah.co.uk/events/online-medical-hypnosis-for-healthcare-professionals-spring-2025-modules-1-3/
END:VEVENT
END:VCALENDAR