BEGIN:VCALENDAR
VERSION:2.0
PRODID:-//eventon.com NONSGML v1.0//EN
CALSCALE:GREGORIAN
METHOD:PUBLISH
BEGIN:VEVENT
UID:69e9ec82244db
DTSTAMP:20260423T095514Z
DTSTART:20240610T150000Z
DTEND:20240610T163000Z
LOCATION:
SUMMARY:Effects and Moderations of psychological pain treatments: Who is most likely to benefit?
DESCRIPTION:Hybrid seminar &#8220;Effects &amp; moderators of psychological
  pain treatments: Who is most likely to benefit?&#8221; by guest speaker Pr
 of Mark Jensen. Join us for an exciting hybrid event at the Institute of P
 sychiatry\,  Psychology &amp; Neuroscience\,  King&#8217;s College London. 
 We will be joined by guest speaker\,  Professor Mark P. Jensen from[..]\nht
 tps://bscah.co.uk/events/effects-and-moderations-of-psychological-pain-trea
 tments-who-is-most-likely-to-benefit/
URL:https://bscah.co.uk/events/effects-and-moderations-of-psychological-pain-treatments-who-is-most-likely-to-benefit/
END:VEVENT
END:VCALENDAR