BEGIN:VCALENDAR
VERSION:2.0
PRODID:-//eventon.com NONSGML v1.0//EN
CALSCALE:GREGORIAN
METHOD:PUBLISH
BEGIN:VEVENT
UID:69e9ec8118cfa
DTSTAMP:20260423T095513Z
DTSTART:20240206T180000Z
DTEND:20240206T193000Z
LOCATION:
SUMMARY:Monthly Webinar -'Ego-strengthening\,  Self-efficacy and Hypnosis'
DESCRIPTION:Members have free access to this event and will be sent the zoo
 m link via the mailing list.This monthly webinar takes place between 6 and 
 7.30pm. We are very happy to have Prof. Leslie Walker sharing his thoughts\
 ,  experience and insights on ego-strengthening\,  self-efficacy\,  and hyp
 nosis. Aim: The aim of[..]\nhttps://bscah.co.uk/events/monthly-webinar-ego-
 strengthening-self-efficacy-and-hypnosis/
URL:https://bscah.co.uk/events/monthly-webinar-ego-strengthening-self-efficacy-and-hypnosis/
END:VEVENT
END:VCALENDAR