BEGIN:VCALENDAR
VERSION:2.0
PRODID:-//eventon.com NONSGML v1.0//EN
CALSCALE:GREGORIAN
METHOD:PUBLISH
BEGIN:VEVENT
UID:69e9ff493ddc9
DTSTAMP:20260423T111521Z
DTSTART:20230522T080000Z
DTEND:20230522T154500Z
LOCATION:
SUMMARY:Medical Hypnosis Practical Workshop (For anaesthetists)
DESCRIPTION:In conjunction with Association of Anaesthetists Date: Monday 2
 2nd May 2023 9am &#8211; 4.45pm Location: The Association of Anaesthetists 
 21 Portland Place\,  London W1B 1PY Further info / To book About this semin
 ar This will be a practical day focused at training anaesthetists in simple
  hypnotic techniques which can be[..]\nhttps://bscah.co.uk/events/in-conjun
 ction-with-association-of-anaesthetists/
URL:https://bscah.co.uk/events/in-conjunction-with-association-of-anaesthetists/
END:VEVENT
END:VCALENDAR